BEGIN:VCALENDAR
VERSION:2.0
PRODID:-//Oak Lane Nursing &amp; Rehab - ECPv6.15.20//NONSGML v1.0//EN
CALSCALE:GREGORIAN
METHOD:PUBLISH
X-ORIGINAL-URL:https://caringoaks.org
X-WR-CALDESC:Events for Oak Lane Nursing &amp; Rehab
REFRESH-INTERVAL;VALUE=DURATION:PT1H
X-Robots-Tag:noindex
X-PUBLISHED-TTL:PT1H
BEGIN:VTIMEZONE
TZID:America/Chicago
BEGIN:DAYLIGHT
TZOFFSETFROM:-0600
TZOFFSETTO:-0500
TZNAME:CDT
DTSTART:20230312T080000
END:DAYLIGHT
BEGIN:STANDARD
TZOFFSETFROM:-0500
TZOFFSETTO:-0600
TZNAME:CST
DTSTART:20231105T070000
END:STANDARD
BEGIN:DAYLIGHT
TZOFFSETFROM:-0600
TZOFFSETTO:-0500
TZNAME:CDT
DTSTART:20240310T080000
END:DAYLIGHT
BEGIN:STANDARD
TZOFFSETFROM:-0500
TZOFFSETTO:-0600
TZNAME:CST
DTSTART:20241103T070000
END:STANDARD
BEGIN:DAYLIGHT
TZOFFSETFROM:-0600
TZOFFSETTO:-0500
TZNAME:CDT
DTSTART:20250309T080000
END:DAYLIGHT
BEGIN:STANDARD
TZOFFSETFROM:-0500
TZOFFSETTO:-0600
TZNAME:CST
DTSTART:20251102T070000
END:STANDARD
END:VTIMEZONE
BEGIN:VEVENT
DTSTART;TZID=America/Chicago:20240723T140000
DTEND;TZID=America/Chicago:20240723T150000
DTSTAMP:20260425T070902
CREATED:20240704T002912Z
LAST-MODIFIED:20240704T002912Z
UID:10000017-1721743200-1721746800@caringoaks.org
SUMMARY:Guitar Concert - Patrick Kaltefleiter at 2:00pm at Oak Wood Estates Retirement Village
DESCRIPTION:Come join us for a special concert by Guitarist Patrick Kaltefleiter at 2:00pm at Oak Wood Estates Retirement Village.
URL:https://caringoaks.org/event/guitar-concert-patrick-kaltefleiter-at-200pm-at-oak-wood-estates-retirement-village/
END:VEVENT
BEGIN:VEVENT
DTSTART;TZID=America/Chicago:20240720T100000
DTEND;TZID=America/Chicago:20240720T110000
DTSTAMP:20260425T070902
CREATED:20240704T002722Z
LAST-MODIFIED:20240704T002722Z
UID:10000016-1721469600-1721473200@caringoaks.org
SUMMARY:Country Gospel Concert at Oak Lane 10:00 am.
DESCRIPTION:Come join us for a concert open to residents & the public. Country and Gospel singer Terry Stone for a concert at Oak Lane Nursing & Rehab at 10:00 am.
URL:https://caringoaks.org/event/country-gospel-concert-at-oak-lane-1000-am/
END:VEVENT
BEGIN:VEVENT
DTSTART;TZID=America/Chicago:20240719T103000
DTEND;TZID=America/Chicago:20240719T113000
DTSTAMP:20260425T070902
CREATED:20240704T002502Z
LAST-MODIFIED:20240704T002502Z
UID:10000015-1721385000-1721388600@caringoaks.org
SUMMARY:Resident Book Mobile at Oak Wood Estates Retirement Village 10:30am.
DESCRIPTION:Resident Book Mobile at Oak Wood Estates Retirement Village. Bring your old books to donate\, swap or give to a new friend. Select from new and used books brought to you in a mobile!
URL:https://caringoaks.org/event/resident-book-mobile-at-oak-wood-estates-retirement-village-1030am/
END:VEVENT
BEGIN:VEVENT
DTSTART;TZID=America/Chicago:20240718T140000
DTEND;TZID=America/Chicago:20240718T150000
DTSTAMP:20260425T070902
CREATED:20240704T002111Z
LAST-MODIFIED:20240704T002111Z
UID:10000013-1721311200-1721314800@caringoaks.org
SUMMARY:Cake Decorating at Oak Lane Nursing & Rehab 2pm
DESCRIPTION:Cake Decorating at Oak Lane Nursing & Rehab at 2pm.
URL:https://caringoaks.org/event/cake-decorating-at-oak-lane-nursing-rehab-2pm/
END:VEVENT
BEGIN:VEVENT
DTSTART;TZID=America/Chicago:20240716T133000
DTEND;TZID=America/Chicago:20240716T143000
DTSTAMP:20260425T070902
CREATED:20240704T001950Z
LAST-MODIFIED:20240704T001950Z
UID:10000012-1721136600-1721140200@caringoaks.org
SUMMARY:Painting at Oak Lane Nursing & Rehab1:30pm
DESCRIPTION:Painting at Oak Lane Nursing & Rehab 1:30pm.
URL:https://caringoaks.org/event/painting-at-oak-lane-nursing-rehab130pm/
END:VEVENT
BEGIN:VEVENT
DTSTART;TZID=America/Chicago:20240712T133000
DTEND;TZID=America/Chicago:20240712T143000
DTSTAMP:20260425T070902
CREATED:20240704T001706Z
LAST-MODIFIED:20240704T001706Z
UID:10000011-1720791000-1720794600@caringoaks.org
SUMMARY:Baking Pecan Pie Bars at 1:30pm
DESCRIPTION:Baking Pecan Pie Bars at 1:30 pm at Oak Wood Estates Retirement Village.
URL:https://caringoaks.org/event/baking-pecan-pie-bars-at-130pm/
END:VEVENT
BEGIN:VEVENT
DTSTART;TZID=America/Chicago:20240705T103000
DTEND;TZID=America/Chicago:20240705T113000
DTSTAMP:20260425T070902
CREATED:20240704T002354Z
LAST-MODIFIED:20240704T002354Z
UID:10000014-1720175400-1720179000@caringoaks.org
SUMMARY:Resident Book Mobile 10:30am at Oak Wood
DESCRIPTION:Resident Book Mobile at Oak Wood Estates Retirement Village. Bring your old books to donate\, swap or give to a new friend. Select from new and used books brought to you in a mobile!
URL:https://caringoaks.org/event/resident-book-mobile-1030am-at-oak-wood/
END:VEVENT
BEGIN:VEVENT
DTSTART;TZID=America/Chicago:20240703T193000
DTEND;TZID=America/Chicago:20240703T220000
DTSTAMP:20260425T070902
CREATED:20240701T162630Z
LAST-MODIFIED:20240701T162920Z
UID:10000008-1720035000-1720044000@caringoaks.org
SUMMARY:Fireworks Celebration July 3rd!
DESCRIPTION:Light up the night with the Fireworks Celebration! 🎆\n• Dazzling fireworks display\n• Bring your own lawn chair for the best seats\n• Show starts at Dusk (7/3/2024)\n• Front Lawn of Oak Lane Nursing & Rehab\nDon’t miss the biggest 4th of July event in town! Gather your friends and family to experience the magic of a jaw-dropping fireworks show that will leave you in awe. This community celebration is the perfect way to come together\, relax\, and enjoy the festivities. Grab a spot on the lawn\, kick back\, and let the vibrant colors and thunderous booms fill the sky. It’s an unforgettable experience that creates lasting memories for this 2024 season.
URL:https://caringoaks.org/event/fireworks-celebration-july-3rd/
LOCATION:Fireworks Celebration July 3rd!\, 604 Oakwood Dr\,\, Stronghurst\, Illinois\, 61480\, United States
ORGANIZER;CN="Henderson County Retirement Center":MAILTO:sarahjo@caringoaks.org
END:VEVENT
BEGIN:VEVENT
DTSTART;TZID=America/Chicago:20240703T080000
DTEND;TZID=America/Chicago:20240703T170000
DTSTAMP:20260425T070902
CREATED:20240709T183024Z
LAST-MODIFIED:20240704T001755Z
UID:10000010-1719993600-1720026000@caringoaks.org
SUMMARY:Baking Sugar Cookies 1:30pm
DESCRIPTION:Baking Sugar Cookies at 1:30pm at Oak Wood Estates Retirement Village.
URL:https://caringoaks.org/event/baking-sugar-cookies-130pm/
END:VEVENT
BEGIN:VEVENT
DTSTART;TZID=America/Chicago:20240701T133000
DTEND;TZID=America/Chicago:20240701T143000
DTSTAMP:20260425T070902
CREATED:20240704T001317Z
LAST-MODIFIED:20240704T001335Z
UID:10000009-1719840600-1719844200@caringoaks.org
SUMMARY:Baking Ginger Snaps at 1:30pm
DESCRIPTION:Baking Ginger Snaps at 1:30pm at Oak Wood Estates Retirement Village.
URL:https://caringoaks.org/event/baking-ginger-snaps-at-130pm/
END:VEVENT
BEGIN:VEVENT
DTSTART;TZID=America/Chicago:20240619T130000
DTEND;TZID=America/Chicago:20240619T170000
DTSTAMP:20260425T070902
CREATED:20240606T141706Z
LAST-MODIFIED:20240606T141737Z
UID:10000005-1718802000-1718816400@caringoaks.org
SUMMARY:Agriculture Day & Petting Zoo
DESCRIPTION:Agriculture Day & Petting Zoo 1pm. at Oak Wood & Oak Lane. Open to all residents\, family & the “Community”
URL:https://caringoaks.org/event/agriculture-day-petting-zoo/
END:VEVENT
BEGIN:VEVENT
DTSTART;TZID=America/Chicago:20240614T120000
DTEND;TZID=America/Chicago:20240614T170000
DTSTAMP:20260425T070902
CREATED:20240606T141636Z
LAST-MODIFIED:20240606T141730Z
UID:10000004-1718366400-1718384400@caringoaks.org
SUMMARY:Father's Day Fish Fry
DESCRIPTION:Father’s Day Fish Fry 12pm.  at Oak Wood & Oak Lane – open to all residents & family. Please RSVP by 6/10/24
URL:https://caringoaks.org/event/fathers-day-fish-fry/
ATTACH;FMTTYPE=image/jpeg:https://caringoaks.org/wp-content/uploads/Oak-Wood-Fish-Fry.jpg
END:VEVENT
BEGIN:VEVENT
DTSTART;TZID=America/Chicago:20240606T170000
DTEND;TZID=America/Chicago:20240606T220000
DTSTAMP:20260425T070902
CREATED:20240606T141513Z
LAST-MODIFIED:20240606T141743Z
UID:10000003-1717693200-1717711200@caringoaks.org
SUMMARY:50's Retro Dinner and Dance
DESCRIPTION:50’s Retro Dinner and Dance 5pm. at Oak Wood- open to all residents & family
URL:https://caringoaks.org/event/50s-retro-dinner-and-dance/
ATTACH;FMTTYPE=image/png:https://caringoaks.org/wp-content/uploads/Retro-Dinner-Dance.png
END:VEVENT
END:VCALENDAR